BEGIN:VCALENDAR
VERSION:2.0
PRODID:-//Party Signal - ECPv6.15.20//NONSGML v1.0//EN
CALSCALE:GREGORIAN
METHOD:PUBLISH
X-ORIGINAL-URL:https://partysignal.de
X-WR-CALDESC:Veranstaltungen für Party Signal
REFRESH-INTERVAL;VALUE=DURATION:PT1H
X-Robots-Tag:noindex
X-PUBLISHED-TTL:PT1H
BEGIN:VTIMEZONE
TZID:UTC
BEGIN:STANDARD
TZOFFSETFROM:+0000
TZOFFSETTO:+0000
TZNAME:UTC
DTSTART:20230101T000000
END:STANDARD
END:VTIMEZONE
BEGIN:VEVENT
DTSTART;TZID=UTC:20240824T120000
DTEND;TZID=UTC:20240825T030000
DTSTAMP:20260420T193901
CREATED:20240925T105616Z
LAST-MODIFIED:20240925T135752Z
UID:3193-1724500800-1724554800@partysignal.de
SUMMARY:Club Invasion - from House to Hardstyle
DESCRIPTION:Der Vorverkauf für die Club Invasion am 24.08.2024 startet jetzt! \n16 Stunden Party mit 10 Genres und 8 DJs! \n\n\nTicketpreise:\nVorverkauf: 25€ – Getränke bis 20 Uhr inklusive\nTageskasse: 35€ – Getränke bis 20 Uhr inklusive\nAbendkasse: 10€\n\n\n Details:\nMit einem Vorverkaufs- oder Tageskassen-Ticket öffnen sich die Tore schon um 12 Uhr mittags für euch. Gönnt euch kostenlose Getränke bis 20 Uhr! \n\n\nAb 20 Uhr startet der Eintritt über die Abendkasse für 10€\, und ab dann gelten normale Getränkepreise. \n\n\nNatürlich könnt ihr mit eurem Vorverkaufs- oder Tageskassen-Ticket den Club zwischendurch verlassen und später zurückkehren. Ihr müsst also nicht 16 Stunden am Stück feiern! \n\n\nHier geht es zum VVK https://pretix.eu/Manhattan/ci/
URL:https://partysignal.de/event/club-invasion-from-house-to-hardstyle/
LOCATION:Manhattan Homberg\, Kasseler Str. 7\, Homberg (Efze)\, 34576\, Germany
CATEGORIES:Club Events
ATTACH;FMTTYPE=image/jpeg:https://partysignal.de/wp-content/uploads/2024/08/Clubinvasion-24.08.2024-Club-Manhatten.jpg
ORGANIZER;CN="Manhattan Club":MAILTO:info@hattan.de
END:VEVENT
END:VCALENDAR