BEGIN:VCALENDAR
VERSION:2.0
PRODID:-//Party Signal - ECPv6.15.20//NONSGML v1.0//EN
CALSCALE:GREGORIAN
METHOD:PUBLISH
X-WR-CALNAME:Party Signal
X-ORIGINAL-URL:https://partysignal.de
X-WR-CALDESC:Veranstaltungen für Party Signal
REFRESH-INTERVAL;VALUE=DURATION:PT1H
X-Robots-Tag:noindex
X-PUBLISHED-TTL:PT1H
BEGIN:VTIMEZONE
TZID:UTC
BEGIN:STANDARD
TZOFFSETFROM:+0000
TZOFFSETTO:+0000
TZNAME:UTC
DTSTART:20230101T000000
END:STANDARD
END:VTIMEZONE
BEGIN:VEVENT
DTSTART;TZID=UTC:20241026T120000
DTEND;TZID=UTC:20241027T010000
DTSTAMP:20260420T092358
CREATED:20240925T085105Z
LAST-MODIFIED:20241111T073340Z
UID:3164-1729944000-1729990800@partysignal.de
SUMMARY:Twitch Live Event (Nicht öffentlich)
DESCRIPTION:
URL:https://partysignal.de/event/twitch-live-event/
LOCATION:Hildesheim
CATEGORIES:Besondere Veranstaltungen
ATTACH;FMTTYPE=image/jpeg:https://partysignal.de/wp-content/uploads/2024/09/Peikas-BDay.jpg
ORGANIZER;CN="PartySignal":MAILTO:info@PartySignal.de
END:VEVENT
END:VCALENDAR